BEGIN:VCALENDAR
VERSION:2.0
PRODID:-//Complexe sportif Jean de la Mennais - ECPv6.15.12.2//NONSGML v1.0//EN
CALSCALE:GREGORIAN
METHOD:PUBLISH
X-WR-CALNAME:Complexe sportif Jean de la Mennais
X-ORIGINAL-URL:https://complexe.jdlm.ca
X-WR-CALDESC:Événements pour Complexe sportif Jean de la Mennais
REFRESH-INTERVAL;VALUE=DURATION:PT1H
X-Robots-Tag:noindex
X-PUBLISHED-TTL:PT1H
BEGIN:VTIMEZONE
TZID:America/Toronto
BEGIN:DAYLIGHT
TZOFFSETFROM:-0500
TZOFFSETTO:-0400
TZNAME:EDT
DTSTART:20250309T070000
END:DAYLIGHT
BEGIN:STANDARD
TZOFFSETFROM:-0400
TZOFFSETTO:-0500
TZNAME:EST
DTSTART:20251102T060000
END:STANDARD
BEGIN:DAYLIGHT
TZOFFSETFROM:-0500
TZOFFSETTO:-0400
TZNAME:EDT
DTSTART:20260308T070000
END:DAYLIGHT
BEGIN:STANDARD
TZOFFSETFROM:-0400
TZOFFSETTO:-0500
TZNAME:EST
DTSTART:20261101T060000
END:STANDARD
BEGIN:DAYLIGHT
TZOFFSETFROM:-0500
TZOFFSETTO:-0400
TZNAME:EDT
DTSTART:20270314T070000
END:DAYLIGHT
BEGIN:STANDARD
TZOFFSETFROM:-0400
TZOFFSETTO:-0500
TZNAME:EST
DTSTART:20271107T060000
END:STANDARD
END:VTIMEZONE
BEGIN:VEVENT
DTSTART;TZID=America/Toronto:20260423T130000
DTEND;TZID=America/Toronto:20260423T233000
DTSTAMP:20260420T115352
CREATED:20250804T191839Z
LAST-MODIFIED:20250804T191842Z
UID:10000167-1776949200-1776987000@complexe.jdlm.ca
SUMMARY:Préinscriptions
DESCRIPTION:
URL:https://complexe.jdlm.ca/event/preinscriptions-5/
END:VEVENT
BEGIN:VEVENT
DTSTART;TZID=America/Toronto:20260426T151500
DTEND;TZID=America/Toronto:20260426T161000
DTSTAMP:20260420T115352
CREATED:20250909T182431Z
LAST-MODIFIED:20250909T182435Z
UID:10000189-1777216500-1777219800@complexe.jdlm.ca
SUMMARY:Évaluations en piscine
DESCRIPTION:
URL:https://complexe.jdlm.ca/event/evaluations-en-piscine-20/2026-04-26/
END:VEVENT
BEGIN:VEVENT
DTSTART;TZID=America/Toronto:20260430T130000
DTEND;TZID=America/Toronto:20260430T233000
DTSTAMP:20260420T115352
CREATED:20250804T192443Z
LAST-MODIFIED:20250804T192446Z
UID:10000172-1777554000-1777591800@complexe.jdlm.ca
SUMMARY:Inscriptions pour tous
DESCRIPTION:
URL:https://complexe.jdlm.ca/event/inscriptions-pour-tous-6/
END:VEVENT
BEGIN:VEVENT
DTSTART;TZID=America/Toronto:20260509T000000
DTEND;TZID=America/Toronto:20260510T235959
DTSTAMP:20260420T115352
CREATED:20250804T193514Z
LAST-MODIFIED:20250804T193517Z
UID:10000181-1778284800-1778457599@complexe.jdlm.ca
SUMMARY:Pas d'activités en gymnase (bleu et orange)
DESCRIPTION:
URL:https://complexe.jdlm.ca/event/pas-dactivites-en-gymnase-bleu-et-orange-5/
END:VEVENT
BEGIN:VEVENT
DTSTART;TZID=America/Toronto:20260614T151500
DTEND;TZID=America/Toronto:20260614T161000
DTSTAMP:20260420T115352
CREATED:20250909T182431Z
LAST-MODIFIED:20250909T182435Z
UID:10000190-1781450100-1781453400@complexe.jdlm.ca
SUMMARY:Évaluations en piscine
DESCRIPTION:
URL:https://complexe.jdlm.ca/event/evaluations-en-piscine-20/2026-06-14/
END:VEVENT
BEGIN:VEVENT
DTSTART;TZID=America/Toronto:20260621T151500
DTEND;TZID=America/Toronto:20260621T161000
DTSTAMP:20260420T115352
CREATED:20250909T182431Z
LAST-MODIFIED:20250909T182435Z
UID:10000191-1782054900-1782058200@complexe.jdlm.ca
SUMMARY:Évaluations en piscine
DESCRIPTION:
URL:https://complexe.jdlm.ca/event/evaluations-en-piscine-20/2026-06-21/
END:VEVENT
END:VCALENDAR