BEGIN:VCALENDAR
VERSION:2.0
PRODID:-//Complexe sportif Jean de la Mennais - ECPv6.15.12.2//NONSGML v1.0//EN
CALSCALE:GREGORIAN
METHOD:PUBLISH
X-ORIGINAL-URL:https://complexe.jdlm.ca
X-WR-CALDESC:Événements pour Complexe sportif Jean de la Mennais
REFRESH-INTERVAL;VALUE=DURATION:PT1H
X-Robots-Tag:noindex
X-PUBLISHED-TTL:PT1H
BEGIN:VTIMEZONE
TZID:America/Toronto
BEGIN:DAYLIGHT
TZOFFSETFROM:-0500
TZOFFSETTO:-0400
TZNAME:EDT
DTSTART:20240310T070000
END:DAYLIGHT
BEGIN:STANDARD
TZOFFSETFROM:-0400
TZOFFSETTO:-0500
TZNAME:EST
DTSTART:20241103T060000
END:STANDARD
BEGIN:DAYLIGHT
TZOFFSETFROM:-0500
TZOFFSETTO:-0400
TZNAME:EDT
DTSTART:20250309T070000
END:DAYLIGHT
BEGIN:STANDARD
TZOFFSETFROM:-0400
TZOFFSETTO:-0500
TZNAME:EST
DTSTART:20251102T060000
END:STANDARD
BEGIN:DAYLIGHT
TZOFFSETFROM:-0500
TZOFFSETTO:-0400
TZNAME:EDT
DTSTART:20260308T070000
END:DAYLIGHT
BEGIN:STANDARD
TZOFFSETFROM:-0400
TZOFFSETTO:-0500
TZNAME:EST
DTSTART:20261101T060000
END:STANDARD
END:VTIMEZONE
BEGIN:VEVENT
DTSTART;TZID=America/Toronto:20251012T151500
DTEND;TZID=America/Toronto:20251012T161000
DTSTAMP:20260420T182058
CREATED:20250909T182431Z
LAST-MODIFIED:20250909T182435Z
UID:10000182-1760282100-1760285400@complexe.jdlm.ca
SUMMARY:Évaluations en piscine
DESCRIPTION:
URL:https://complexe.jdlm.ca/event/evaluations-en-piscine-20/2025-10-12/
END:VEVENT
BEGIN:VEVENT
DTSTART;TZID=America/Toronto:20251016T130000
DTEND;TZID=America/Toronto:20251016T233000
DTSTAMP:20260420T182058
CREATED:20250804T191404Z
LAST-MODIFIED:20250804T191407Z
UID:10000164-1760619600-1760657400@complexe.jdlm.ca
SUMMARY:Préinscriptions
DESCRIPTION:
URL:https://complexe.jdlm.ca/event/preinscriptions-2/
END:VEVENT
BEGIN:VEVENT
DTSTART;TZID=America/Toronto:20251018T000000
DTEND;TZID=America/Toronto:20251019T235959
DTSTAMP:20260420T182058
CREATED:20250804T192927Z
LAST-MODIFIED:20250804T192930Z
UID:10000177-1760745600-1760918399@complexe.jdlm.ca
SUMMARY:Pas d'activités en gymnase (bleu et orange)
DESCRIPTION:
URL:https://complexe.jdlm.ca/event/pas-dactivites-en-gymnase-bleu-et-orange/
END:VEVENT
BEGIN:VEVENT
DTSTART;TZID=America/Toronto:20251019T151500
DTEND;TZID=America/Toronto:20251019T161000
DTSTAMP:20260420T182058
CREATED:20250909T182431Z
LAST-MODIFIED:20250909T182435Z
UID:10000183-1760886900-1760890200@complexe.jdlm.ca
SUMMARY:Évaluations en piscine
DESCRIPTION:
URL:https://complexe.jdlm.ca/event/evaluations-en-piscine-20/2025-10-19/
END:VEVENT
BEGIN:VEVENT
DTSTART;TZID=America/Toronto:20251023T130000
DTEND;TZID=America/Toronto:20251023T233000
DTSTAMP:20260420T182058
CREATED:20250804T191947Z
LAST-MODIFIED:20250804T191950Z
UID:10000169-1761224400-1761262200@complexe.jdlm.ca
SUMMARY:Inscriptions pour tous
DESCRIPTION:
URL:https://complexe.jdlm.ca/event/inscriptions-pour-tous-3/
END:VEVENT
END:VCALENDAR