BEGIN:VCALENDAR
VERSION:2.0
PRODID:-//Complexe sportif Jean de la Mennais - ECPv6.15.12.2//NONSGML v1.0//EN
CALSCALE:GREGORIAN
METHOD:PUBLISH
X-ORIGINAL-URL:https://complexe.jdlm.ca
X-WR-CALDESC:Événements pour Complexe sportif Jean de la Mennais
REFRESH-INTERVAL;VALUE=DURATION:PT1H
X-Robots-Tag:noindex
X-PUBLISHED-TTL:PT1H
BEGIN:VTIMEZONE
TZID:America/Toronto
BEGIN:DAYLIGHT
TZOFFSETFROM:-0500
TZOFFSETTO:-0400
TZNAME:EDT
DTSTART:20240310T070000
END:DAYLIGHT
BEGIN:STANDARD
TZOFFSETFROM:-0400
TZOFFSETTO:-0500
TZNAME:EST
DTSTART:20241103T060000
END:STANDARD
BEGIN:DAYLIGHT
TZOFFSETFROM:-0500
TZOFFSETTO:-0400
TZNAME:EDT
DTSTART:20250309T070000
END:DAYLIGHT
BEGIN:STANDARD
TZOFFSETFROM:-0400
TZOFFSETTO:-0500
TZNAME:EST
DTSTART:20251102T060000
END:STANDARD
BEGIN:DAYLIGHT
TZOFFSETFROM:-0500
TZOFFSETTO:-0400
TZNAME:EDT
DTSTART:20260308T070000
END:DAYLIGHT
BEGIN:STANDARD
TZOFFSETFROM:-0400
TZOFFSETTO:-0500
TZNAME:EST
DTSTART:20261101T060000
END:STANDARD
BEGIN:DAYLIGHT
TZOFFSETFROM:-0500
TZOFFSETTO:-0400
TZNAME:EDT
DTSTART:20270314T070000
END:DAYLIGHT
BEGIN:STANDARD
TZOFFSETFROM:-0400
TZOFFSETTO:-0500
TZNAME:EST
DTSTART:20271107T060000
END:STANDARD
END:VTIMEZONE
BEGIN:VEVENT
DTSTART;TZID=America/Toronto:20251207T151500
DTEND;TZID=America/Toronto:20251207T161000
DTSTAMP:20260420T152035
CREATED:20250909T182431Z
LAST-MODIFIED:20250909T182435Z
UID:10000184-1765120500-1765123800@complexe.jdlm.ca
SUMMARY:Évaluations en piscine
DESCRIPTION:
URL:https://complexe.jdlm.ca/event/evaluations-en-piscine-20/2025-12-07/
END:VEVENT
BEGIN:VEVENT
DTSTART;TZID=America/Toronto:20251211T130000
DTEND;TZID=America/Toronto:20251211T233000
DTSTAMP:20260420T152035
CREATED:20250804T191445Z
LAST-MODIFIED:20250804T191448Z
UID:10000165-1765458000-1765495800@complexe.jdlm.ca
SUMMARY:Préinscriptions
DESCRIPTION:
URL:https://complexe.jdlm.ca/event/preinscriptions-3/
END:VEVENT
BEGIN:VEVENT
DTSTART;TZID=America/Toronto:20251214T151500
DTEND;TZID=America/Toronto:20251214T161000
DTSTAMP:20260420T152035
CREATED:20250909T182431Z
LAST-MODIFIED:20250909T182435Z
UID:10000185-1765725300-1765728600@complexe.jdlm.ca
SUMMARY:Évaluations en piscine
DESCRIPTION:
URL:https://complexe.jdlm.ca/event/evaluations-en-piscine-20/2025-12-14/
END:VEVENT
BEGIN:VEVENT
DTSTART;TZID=America/Toronto:20251218T130000
DTEND;TZID=America/Toronto:20251218T233000
DTSTAMP:20260420T152035
CREATED:20250804T192021Z
LAST-MODIFIED:20250804T192024Z
UID:10000170-1766062800-1766100600@complexe.jdlm.ca
SUMMARY:Inscriptions pour tous
DESCRIPTION:
URL:https://complexe.jdlm.ca/event/inscriptions-pour-tous-4/
END:VEVENT
BEGIN:VEVENT
DTSTART;TZID=America/Toronto:20251222T080000
DTEND;TZID=America/Toronto:20260104T233000
DTSTAMP:20260420T152035
CREATED:20250804T192833Z
LAST-MODIFIED:20250804T192836Z
UID:10000176-1766390400-1767569400@complexe.jdlm.ca
SUMMARY:Fermeture congé des fêtes
DESCRIPTION:
URL:https://complexe.jdlm.ca/event/fermeture-conge-des-fetes/
END:VEVENT
END:VCALENDAR